BEGIN:VCALENDAR
VERSION:2.0
PRODID:-//Crystal Vision - ECPv6.15.20//NONSGML v1.0//EN
CALSCALE:GREGORIAN
METHOD:PUBLISH
X-WR-CALNAME:Crystal Vision
X-ORIGINAL-URL:https://crystalvisionltc.com
X-WR-CALDESC:Events for Crystal Vision
REFRESH-INTERVAL;VALUE=DURATION:PT1H
X-Robots-Tag:noindex
X-PUBLISHED-TTL:PT1H
BEGIN:VTIMEZONE
TZID:UTC
BEGIN:STANDARD
TZOFFSETFROM:+0000
TZOFFSETTO:+0000
TZNAME:UTC
DTSTART:20230101T000000
END:STANDARD
END:VTIMEZONE
BEGIN:VEVENT
DTSTART;TZID=UTC:20241214T110000
DTEND;TZID=UTC:20241214T170000
DTSTAMP:20260422T053638
CREATED:20241204T193503Z
LAST-MODIFIED:20241204T193505Z
UID:1267-1734174000-1734195600@crystalvisionltc.com
SUMMARY:Psychic Fair
DESCRIPTION:Step into a realm where the mystical meets the magical and discover the wisdom of extraordinary readers who are eager to illuminate your path. Dive into an ethereal experience filled with insights\, wonder\, and spiritual revelations. Let the magic unfold and reveal the mysteries of your future. See you there! \n  \nMake sure you call us at the store to schedule your appointment! Spots fill up fast – 954-981-4992
URL:https://crystalvisionltc.com/event/psychic-fair/
LOCATION:Crystal Vision and Loving Touch Center\, 3160 Stirling Road\, Hollywood\, FL\, 33021\, United States
CATEGORIES:Psychic,Reading,Tarot
ATTACH;FMTTYPE=image/jpeg:https://crystalvisionltc.com/wp-content/uploads/2024/12/psychic_fair.jpg
END:VEVENT
END:VCALENDAR