BEGIN:VCALENDAR
VERSION:2.0
PRODID:-//Crystal Vision - ECPv6.15.20//NONSGML v1.0//EN
CALSCALE:GREGORIAN
METHOD:PUBLISH
X-ORIGINAL-URL:https://crystalvisionltc.com
X-WR-CALDESC:Events for Crystal Vision
REFRESH-INTERVAL;VALUE=DURATION:PT1H
X-Robots-Tag:noindex
X-PUBLISHED-TTL:PT1H
BEGIN:VTIMEZONE
TZID:UTC
BEGIN:STANDARD
TZOFFSETFROM:+0000
TZOFFSETTO:+0000
TZNAME:UTC
DTSTART:20240101T000000
END:STANDARD
END:VTIMEZONE
BEGIN:VEVENT
DTSTART;TZID=UTC:20250425T110000
DTEND;TZID=UTC:20250427T170000
DTSTAMP:20260422T171608
CREATED:20250402T161251Z
LAST-MODIFIED:20250402T161253Z
UID:1647-1745578800-1745773200@crystalvisionltc.com
SUMMARY:Private Palmistry Readings with Blue Evans
DESCRIPTION:Join us on on Friday April 25th – Sunday April 27th for Private Palm Reading Sessions with the renowned Blue Evans. \nCall our shop at: 954-981-4992 to inquire and book your session – spots fill up fast \nBlue Evans: a true luminary in the realm of palmistry! With over 30 years of dedicated mastery\, Blue has enchanted and enlightened countless individuals with his profound insights and exceptional accuracy. His deep understanding of the art of palm reading offers unparalleled clarity and guidance\, making him a cherished presence in our community. Don’t miss the opportunity to experience his expert touch and discover the secrets your palms hold.
URL:https://crystalvisionltc.com/event/private-palmistry-readings-with-blue-evans/
LOCATION:Crystal Vision and Loving Touch Center\, 3160 Stirling Road\, Hollywood\, FL\, 33021\, United States
CATEGORIES:Healing,Palmistry,Psychic,Reading
ATTACH;FMTTYPE=image/jpeg:https://crystalvisionltc.com/wp-content/uploads/2025/04/palmistry-with-blue.jpg
END:VEVENT
END:VCALENDAR