BEGIN:VCALENDAR
VERSION:2.0
PRODID:-//Crystal Vision - ECPv6.15.20//NONSGML v1.0//EN
CALSCALE:GREGORIAN
METHOD:PUBLISH
X-WR-CALNAME:Crystal Vision
X-ORIGINAL-URL:https://crystalvisionltc.com
X-WR-CALDESC:Events for Crystal Vision
REFRESH-INTERVAL;VALUE=DURATION:PT1H
X-Robots-Tag:noindex
X-PUBLISHED-TTL:PT1H
BEGIN:VTIMEZONE
TZID:UTC
BEGIN:STANDARD
TZOFFSETFROM:+0000
TZOFFSETTO:+0000
TZNAME:UTC
DTSTART:20230101T000000
END:STANDARD
END:VTIMEZONE
BEGIN:VEVENT
DTSTART;TZID=UTC:20251027T103000
DTEND;TZID=UTC:20251027T123000
DTSTAMP:20260421T092219
CREATED:20251002T165734Z
LAST-MODIFIED:20251002T165734Z
UID:1712-1761561000-1761568200@crystalvisionltc.com
SUMMARY:Free Monday Morning Reiki Circle
DESCRIPTION:Join us every Monday for our free Monday Morning Reiki Healing Circle.\nIt is our honor and pleasure to bring to our community our free Reiki Healing Circles! Join us as we welcome each new month with intention and healing. \nWe have been offering our FREE Monday Morning reiki circles to our amazing community for the past 33 years. All you have to do is bring yourself and a smile :-). Doors open at 10AM; Seats go fast so please show up on time to make sure you get a space– We cant wait to see you all there!
URL:https://crystalvisionltc.com/event/free-monday-morning-reiki-circle-4/
LOCATION:Crystal Vision and Loving Touch Center\, 3160 Stirling Road\, Hollywood\, FL\, 33021\, United States
CATEGORIES:Free,Healing,Meditation,Reiki
ATTACH;FMTTYPE=image/jpeg:https://crystalvisionltc.com/wp-content/uploads/2024/11/reiki-circle-mondayMorn2.jpg
END:VEVENT
BEGIN:VEVENT
DTSTART;TZID=UTC:20251020T103000
DTEND;TZID=UTC:20251020T123000
DTSTAMP:20260421T092219
CREATED:20251002T165545Z
LAST-MODIFIED:20251002T165546Z
UID:1711-1760956200-1760963400@crystalvisionltc.com
SUMMARY:Free Monday Morning Reiki Circle
DESCRIPTION:Join us every Monday for our free Monday Morning Reiki Healing Circle.\nIt is our honor and pleasure to bring to our community our free Reiki Healing Circles! Join us as we welcome each new month with intention and healing. \nWe have been offering our FREE Monday Morning reiki circles to our amazing community for the past 33 years. All you have to do is bring yourself and a smile :-). Doors open at 10AM; Seats go fast so please show up on time to make sure you get a space– We cant wait to see you all there!
URL:https://crystalvisionltc.com/event/free-monday-morning-reiki-circle-3/
LOCATION:Crystal Vision and Loving Touch Center\, 3160 Stirling Road\, Hollywood\, FL\, 33021\, United States
CATEGORIES:Free,Healing,Meditation,Reiki
ATTACH;FMTTYPE=image/jpeg:https://crystalvisionltc.com/wp-content/uploads/2024/11/reiki_I.jpg
END:VEVENT
BEGIN:VEVENT
DTSTART;TZID=UTC:20251014T190000
DTEND;TZID=UTC:20251014T210000
DTSTAMP:20260421T092219
CREATED:20250103T175731Z
LAST-MODIFIED:20251002T182220Z
UID:1329-1760468400-1760475600@crystalvisionltc.com
SUMMARY:Reiki Clinic
DESCRIPTION:Celebrating over 33 years of service to our community\, The Loving Touch Center School of Traditional Usui Reiki is dedicated to creating a supportive environment for healing and learning… for all.  In continuing with the tradition of service to the community we are so excited to announce our monthly Reiki Clinics! \nFull 1 hour Reiki sessions for $50 \n***BY APPOINTMENT ONLY – THERE ARE ONLY 6-8 SPOTS AVAILABLE EACH MONTH – so make sure you call us at the center to reserve your time slot! \nCall us today – 954-981-4992
URL:https://crystalvisionltc.com/event/reiki-clinic/
LOCATION:Crystal Vision and Loving Touch Center\, 3160 Stirling Road\, Hollywood\, FL\, 33021\, United States
CATEGORIES:Healing,Meditation,Reiki
ATTACH;FMTTYPE=image/png:https://crystalvisionltc.com/wp-content/uploads/2025/01/3.png
END:VEVENT
BEGIN:VEVENT
DTSTART;TZID=UTC:20251012T180000
DTEND;TZID=UTC:20251012T200000
DTSTAMP:20260421T092219
CREATED:20251002T190554Z
LAST-MODIFIED:20251002T190555Z
UID:1739-1760292000-1760299200@crystalvisionltc.com
SUMMARY:Free Sunday Night Reiki Circle
DESCRIPTION:Join us on the first two Sundays of every month for our free Reiki Healing Circle.\nIt is our honor and pleasure to bring to you our Free Sunday Night Reiki Circles! Join us as we refresh and recharge and set the tone of the energy for the week ahead. \nWe have been offering our FREE reiki circles to our amazing community for the past 33 years. All you have to do is bring yourself and a smile :-). Doors open at 6PM; Seats go fast so please show up on time to make sure you get a space– We cant wait to see you all there!
URL:https://crystalvisionltc.com/event/free-sunday-night-reiki-circle-2/
LOCATION:Crystal Vision and Loving Touch Center\, 3160 Stirling Road\, Hollywood\, FL\, 33021\, United States
CATEGORIES:Free,Healing,Meditation,Reiki
ATTACH;FMTTYPE=image/jpeg:https://crystalvisionltc.com/wp-content/uploads/2025/02/march2025-rmt-intern.jpg
END:VEVENT
BEGIN:VEVENT
DTSTART;TZID=UTC:20251011T190000
DTEND;TZID=UTC:20251011T210000
DTSTAMP:20260421T092219
CREATED:20250303T171946Z
LAST-MODIFIED:20251002T184259Z
UID:1598-1760209200-1760216400@crystalvisionltc.com
SUMMARY:Breathwork\, Sound Healing & Cacao Ceremony with Kelly
DESCRIPTION:This Saturday – step into a transformational journey of deep healing and energetic alignment. Join us for a sacred Breathwork\, Cacao Ceremony & Sound Healing Workshop with the incredible Kelly. Immerse yourself in a multi-sensory experience designed to reset your nervous system\, open your heart\, and elevate your spirit.  Through guided breathwork\, you’ll release stored tension and emotional blocks. In a heart-opening cacao ceremony\, connect with the spirit of cacao to activate love\, presence\, and gratitude. Let the vibrations of sound healing carry you into altered states of consciousness\, where time melts away and deep inner healing occurs.This is more than a workshop — it’s a portal to another timeline. A space to connect\, restore\, and rise.\n Hollywood\, FL Investment: $55 Date: This Saturday Time: 7pm\n Bring an open heart\, a yoga mat\, and anything that makes you feel cozy (blanket\, eye mask\, crystals).\nSpots are limited – call 954-981-4992 to reserve your space now. You’re being called.
URL:https://crystalvisionltc.com/event/sound-frequency-with-kelly/
LOCATION:Crystal Vision and Loving Touch Center\, 3160 Stirling Road\, Hollywood\, FL\, 33021\, United States
CATEGORIES:Healing,Meditation
ATTACH;FMTTYPE=image/png:https://crystalvisionltc.com/wp-content/uploads/2025/03/Untitled-1280-x-1080-px.png
END:VEVENT
BEGIN:VEVENT
DTSTART;TZID=UTC:20251006T103000
DTEND;TZID=UTC:20251006T123000
DTSTAMP:20260421T092219
CREATED:20250102T183032Z
LAST-MODIFIED:20251002T165255Z
UID:1313-1759746600-1759753800@crystalvisionltc.com
SUMMARY:Free Monday Morning Reiki Circle
DESCRIPTION:Join us every Monday for our free Monday Morning Reiki Healing Circle.\nIt is our honor and pleasure to bring to our community our free Reiki Healing Circles! Join us as we welcome each new month with intention and healing. \nWe have been offering our FREE Monday Morning reiki circles to our amazing community for the past 33 years. All you have to do is bring yourself and a smile :-). Doors open at 10AM; Seats go fast so please show up on time to make sure you get a space– We cant wait to see you all there!
URL:https://crystalvisionltc.com/event/free-monday-morning-reiki-circle-2/
LOCATION:Crystal Vision and Loving Touch Center\, 3160 Stirling Road\, Hollywood\, FL\, 33021\, United States
CATEGORIES:Free,Healing,Meditation,Reiki
ATTACH;FMTTYPE=image/jpeg:https://crystalvisionltc.com/wp-content/uploads/2024/11/reiki-circle-mondayMorn2.jpg
END:VEVENT
BEGIN:VEVENT
DTSTART;TZID=UTC:20251005T180000
DTEND;TZID=UTC:20251005T193000
DTSTAMP:20260421T092219
CREATED:20250102T182632Z
LAST-MODIFIED:20251002T190525Z
UID:1308-1759687200-1759692600@crystalvisionltc.com
SUMMARY:Free Sunday Night Reiki Circle
DESCRIPTION:Join us on the first two Sundays of every month for our free Reiki Healing Circle.\nIt is our honor and pleasure to bring to you our Free Sunday Night Reiki Circles! Join us as we refresh and recharge and set the tone of the energy for the week ahead. \nWe have been offering our FREE reiki circles to our amazing community for the past 33 years. All you have to do is bring yourself and a smile :-). Doors open at 6PM; Seats go fast so please show up on time to make sure you get a space– We cant wait to see you all there!
URL:https://crystalvisionltc.com/event/free-sunday-night-reiki-circle/
LOCATION:Crystal Vision and Loving Touch Center\, 3160 Stirling Road\, Hollywood\, FL\, 33021\, United States
CATEGORIES:Free,Healing,Meditation,Reiki
ATTACH;FMTTYPE=image/jpeg:https://crystalvisionltc.com/wp-content/uploads/2025/01/sunday-night-reiki.jpg
END:VEVENT
BEGIN:VEVENT
DTSTART;TZID=UTC:20251003T190000
DTEND;TZID=UTC:20251003T203000
DTSTAMP:20260421T092219
CREATED:20241204T191319Z
LAST-MODIFIED:20251002T164830Z
UID:1253-1759518000-1759523400@crystalvisionltc.com
SUMMARY:Free Friday Night Reiki Circle
DESCRIPTION:Join us every Friday night for our free Reiki Healing Circle.\nIt is our honor and pleasure to bring to you our Free Friday Night Reiki Circles! Join us as our week ends and refresh and recharge for the weekend. \nWe have been offering our FREE Friday Night reiki circles to our amazing community for the past 33 years. All you have to do is bring yourself and a smile :-). Doors open at 7PM; Seats go fast so please show up on time to make sure you get a space– We cant wait to see you all there!
URL:https://crystalvisionltc.com/event/free-friday-night-reiki-circle-6/
LOCATION:Crystal Vision and Loving Touch Center\, 3160 Stirling Road\, Hollywood\, FL\, 33021\, United States
CATEGORIES:Free,Healing,Meditation,Reiki
ATTACH;FMTTYPE=image/jpeg:https://crystalvisionltc.com/wp-content/uploads/2024/12/friday-reiki.jpg
END:VEVENT
BEGIN:VEVENT
DTSTART;TZID=UTC:20250820T190000
DTEND;TZID=UTC:20250820T210000
DTSTAMP:20260421T092219
CREATED:20250812T165601Z
LAST-MODIFIED:20250812T165603Z
UID:1699-1755716400-1755723600@crystalvisionltc.com
SUMMARY:Meditation Series - with Stephanie
DESCRIPTION:Join Crystal Vision Owner\, Stephanie Guzman on Wednesday August 20th for the Beginning of her Meditation Series Classes\, with Introduction to Meditation and Mindfulness. \nCall the store to RSVP and reserve your space: (954) 981-4992
URL:https://crystalvisionltc.com/event/meditation-series-with-stephanie/
LOCATION:Crystal Vision and Loving Touch Center\, 3160 Stirling Road\, Hollywood\, FL\, 33021\, United States
CATEGORIES:Meditation
ATTACH;FMTTYPE=image/jpeg:https://crystalvisionltc.com/wp-content/uploads/2025/08/medation-series.jpg
END:VEVENT
BEGIN:VEVENT
DTSTART;TZID=UTC:20250729T190000
DTEND;TZID=UTC:20250729T210000
DTSTAMP:20260421T092219
CREATED:20250723T182553Z
LAST-MODIFIED:20250723T183715Z
UID:1685-1753815600-1753822800@crystalvisionltc.com
SUMMARY:Lions Gate Portal Activation With Sandra
DESCRIPTION:Join Sandra for a Lions Gate Activation \nCall us at the sop for more info and to reserve you spot. \n9954) 981-4992
URL:https://crystalvisionltc.com/event/lions-gate-8-8-portal-activation-with-sandra/
LOCATION:Crystal Vision and Loving Touch Center\, 3160 Stirling Road\, Hollywood\, FL\, 33021\, United States
CATEGORIES:Healing,Meditation,Psychic
ATTACH;FMTTYPE=image/jpeg:https://crystalvisionltc.com/wp-content/uploads/2025/07/lions-gate.jpg
END:VEVENT
BEGIN:VEVENT
DTSTART;TZID=UTC:20250725T190000
DTEND;TZID=UTC:20250725T203000
DTSTAMP:20260421T092219
CREATED:20250102T155142Z
LAST-MODIFIED:20250723T171541Z
UID:1305-1753470000-1753475400@crystalvisionltc.com
SUMMARY:Free Friday Night Reiki Circle
DESCRIPTION:Join us every Friday night for our free Reiki Healing Circle.\nIt is our honor and pleasure to bring to you our Free Friday Night Reiki Circles! Join us as our week ends and refresh and recharge for the weekend. \nWe have been offering our FREE Friday Night reiki circles to our amazing community for the past 33 years. All you have to do is bring yourself and a smile :-). Doors open at 7PM; Seats go fast so please show up on time to make sure you get a space– We cant wait to see you all there!
URL:https://crystalvisionltc.com/event/free-friday-night-reiki-circle-14/
LOCATION:Crystal Vision and Loving Touch Center\, 3160 Stirling Road\, Hollywood\, FL\, 33021\, United States
CATEGORIES:Free,Healing,Meditation,Reiki
ATTACH;FMTTYPE=image/jpeg:https://crystalvisionltc.com/wp-content/uploads/2024/11/reiki_I.jpg
END:VEVENT
BEGIN:VEVENT
DTSTART;TZID=UTC:20250523T190000
DTEND;TZID=UTC:20250523T203000
DTSTAMP:20260421T092219
CREATED:20250102T154949Z
LAST-MODIFIED:20250502T195255Z
UID:1303-1748026800-1748032200@crystalvisionltc.com
SUMMARY:Free Friday Night Reiki Circle
DESCRIPTION:Join us every Friday night for our free Reiki Healing Circle.\nIt is our honor and pleasure to bring to you our Free Friday Night Reiki Circles! Join us as our week ends and refresh and recharge for the weekend. \nWe have been offering our FREE Friday Night reiki circles to our amazing community for the past 33 years. All you have to do is bring yourself and a smile :-). Doors open at 7PM; Seats go fast so please show up on time to make sure you get a space– We cant wait to see you all there!
URL:https://crystalvisionltc.com/event/free-friday-night-reiki-circle-13/
LOCATION:Crystal Vision and Loving Touch Center\, 3160 Stirling Road\, Hollywood\, FL\, 33021\, United States
CATEGORIES:Free,Healing,Meditation,Reiki
ATTACH;FMTTYPE=image/jpeg:https://crystalvisionltc.com/wp-content/uploads/2025/01/reiki-circle2-1.jpg
END:VEVENT
BEGIN:VEVENT
DTSTART;TZID=UTC:20250516T190000
DTEND;TZID=UTC:20250516T203000
DTSTAMP:20260421T092219
CREATED:20250102T154703Z
LAST-MODIFIED:20250502T195242Z
UID:1301-1747422000-1747427400@crystalvisionltc.com
SUMMARY:Free Friday Night Reiki Circle
DESCRIPTION:Join us every Friday night for our free Reiki Healing Circle.\nIt is our honor and pleasure to bring to you our Free Friday Night Reiki Circles! Join us as our week ends and refresh and recharge for the weekend. \nWe have been offering our FREE Friday Night reiki circles to our amazing community for the past 33 years. All you have to do is bring yourself and a smile :-). Doors open at 7PM; Seats go fast so please show up on time to make sure you get a space– We cant wait to see you all there!
URL:https://crystalvisionltc.com/event/free-friday-night-reiki-circle-12/
LOCATION:Crystal Vision and Loving Touch Center\, 3160 Stirling Road\, Hollywood\, FL\, 33021\, United States
CATEGORIES:Free,Healing,Meditation,Reiki
ATTACH;FMTTYPE=image/jpeg:https://crystalvisionltc.com/wp-content/uploads/2025/01/reiki-circle2.jpg
END:VEVENT
BEGIN:VEVENT
DTSTART;TZID=UTC:20250510T190000
DTEND;TZID=UTC:20250510T210000
DTSTAMP:20260421T092219
CREATED:20250103T182849Z
LAST-MODIFIED:20250502T202920Z
UID:1342-1746903600-1746910800@crystalvisionltc.com
SUMMARY:Developing your Mediumship with Dr. Patricia Bell
DESCRIPTION:Are you ready to take your mediumship abilities to the next level? Don’t miss this incredible opportunity to learn from Dr. Patricia Bell\, a world-renowned expert with over 40 years of experience in the field of mediumship. \nIn this transformative session\, Dr. Bell will guide you through advanced techniques to strengthen your connection with the spirit world\, refine your intuitive abilities\, and develop your mediumship skills.\nWhether you’re just beginning or looking to deepen your practice\, this session is designed to support and empower you on your spiritual journey. \nSpots are limited so call us TODAY to reserve your space – (954) 981-4992
URL:https://crystalvisionltc.com/event/private-sessions-with-dr-patricia-bell-2/
LOCATION:Crystal Vision and Loving Touch Center\, 3160 Stirling Road\, Hollywood\, FL\, 33021\, United States
CATEGORIES:Healing,Meditation,Psychic,Reading
ATTACH;FMTTYPE=image/jpeg:https://crystalvisionltc.com/wp-content/uploads/2025/01/mediumship-bell.jpg
END:VEVENT
BEGIN:VEVENT
DTSTART;TZID=UTC:20250509T190000
DTEND;TZID=UTC:20250509T210000
DTSTAMP:20260421T092219
CREATED:20250102T153946Z
LAST-MODIFIED:20250502T195235Z
UID:1295-1746817200-1746824400@crystalvisionltc.com
SUMMARY:Free Friday Night Reiki Circle
DESCRIPTION:Join us every Friday night for our free Reiki Healing Circle.\nIt is our honor and pleasure to bring to you our Free Friday Night Reiki Circles! Join us as our week ends and refresh and recharge for the weekend. \nWe have been offering our FREE Friday Night reiki circles to our amazing community for the past 33 years. All you have to do is bring yourself and a smile :-). Doors open at 7PM; Seats go fast so please show up on time to make sure you get a space– We cant wait to see you all there!
URL:https://crystalvisionltc.com/event/free-friday-night-reiki-circle-10/
LOCATION:Crystal Vision and Loving Touch Center\, 3160 Stirling Road\, Hollywood\, FL\, 33021\, United States
CATEGORIES:Free,Healing,Meditation,Reiki
ATTACH;FMTTYPE=image/jpeg:https://crystalvisionltc.com/wp-content/uploads/2025/01/reiki-circle2.jpg
END:VEVENT
BEGIN:VEVENT
DTSTART;TZID=UTC:20250502T190000
DTEND;TZID=UTC:20250502T210000
DTSTAMP:20260421T092219
CREATED:20250102T154450Z
LAST-MODIFIED:20250502T195110Z
UID:1299-1746212400-1746219600@crystalvisionltc.com
SUMMARY:Free Friday Night Reiki Circle
DESCRIPTION:Join us every Friday night for our free Reiki Healing Circle.\nIt is our honor and pleasure to bring to you our Free Friday Night Reiki Circles! Join us as our week ends and refresh and recharge for the weekend. \nWe have been offering our FREE Friday Night reiki circles to our amazing community for the past 33 years. All you have to do is bring yourself and a smile :-). Doors open at 7PM; Seats go fast so please show up on time to make sure you get a space– We cant wait to see you all there!
URL:https://crystalvisionltc.com/event/free-friday-night-reiki-circle-11/
LOCATION:Crystal Vision and Loving Touch Center\, 3160 Stirling Road\, Hollywood\, FL\, 33021\, United States
CATEGORIES:Free,Healing,Meditation,Reiki
ATTACH;FMTTYPE=image/jpeg:https://crystalvisionltc.com/wp-content/uploads/2025/01/reiki-circle2.jpg
END:VEVENT
BEGIN:VEVENT
DTSTART;TZID=UTC:20250329T110000
DTEND;TZID=UTC:20250329T150000
DTSTAMP:20260421T092219
CREATED:20250103T182712Z
LAST-MODIFIED:20250303T200546Z
UID:1336-1743246000-1743260400@crystalvisionltc.com
SUMMARY:Private Sessions with Dr. Patricia Bell
DESCRIPTION:We are thrilled to share that Dr. Patricia Bell\, world-renowned astrologer\, medium\, and intuitive\, will be offering private sessions on Friday -March 28th and Saturday -March 29th \nThis is your chance to receive personalized guidance from one of the most gifted intuitives. Whether you’re seeking insight into your astrological chart\, a mediumship reading\, or intuitive counseling\, Dr. Bell’s wisdom is a transformative experience you won’t want to miss! \nSpaces for private sessions are limited\, so be sure to book your appointment soon! \nPrivate Sessions Available:\nFriday -March 28th and Saturday -March 29th – By appointment ONLY \nCall the store to reserve your spot! (954) 981-4992
URL:https://crystalvisionltc.com/event/private-sessions-with-dr-patricia-bell/
LOCATION:Crystal Vision and Loving Touch Center\, 3160 Stirling Road\, Hollywood\, FL\, 33021\, United States
CATEGORIES:Healing,Meditation,Psychic,Reading
ATTACH;FMTTYPE=image/jpeg:https://crystalvisionltc.com/wp-content/uploads/2025/01/pb-privates.jpg
END:VEVENT
BEGIN:VEVENT
DTSTART;TZID=UTC:20250219T190000
DTEND;TZID=UTC:20250219T210000
DTSTAMP:20260421T092219
CREATED:20250103T011738Z
LAST-MODIFIED:20250217T202412Z
UID:1325-1739991600-1739998800@crystalvisionltc.com
SUMMARY:Womb Healing with Sandra
DESCRIPTION: Womb Healing with SANDRA Join us this Wednesday\, Feb 19\, at 7 PM for a transformative womb healing session led by Sandra. Connecting with your womb means connecting with your power\, your essence your magic. This workshop is specially design for women who are dealing with infertility\, pms\, anxiety\, depression\, poor relationships and even bad relationships with money. This evening is meant to transform every aspect of your life if you allow. Can’t wait to see you there.This session is perfect for those seeking to heal\, restore\, and rejuvenate. $35.Spaces are limited\, so secure your spot now! (954) 981-4992
URL:https://crystalvisionltc.com/event/vision-board-workshop-with-sandra/
LOCATION:Crystal Vision and Loving Touch Center\, 3160 Stirling Road\, Hollywood\, FL\, 33021\, United States
CATEGORIES:Healing,Meditation
ATTACH;FMTTYPE=image/jpeg:https://crystalvisionltc.com/wp-content/uploads/2025/01/feb2025-womb-healing.jpg
END:VEVENT
BEGIN:VEVENT
DTSTART;TZID=UTC:20241227T190000
DTEND;TZID=UTC:20241227T203000
DTSTAMP:20260421T092219
CREATED:20241204T191925Z
LAST-MODIFIED:20241204T191927Z
UID:1260-1735326000-1735331400@crystalvisionltc.com
SUMMARY:Free Friday Night Reiki Circle
DESCRIPTION:Join us every Friday night for our free Reiki Healing Circle.\nIt is our honor and pleasure to bring to you our Free Friday Night Reiki Circles! Join us as our week ends and refresh and recharge for the weekend. \nWe have been offering our FREE Friday Night reiki circles to our amazing community for the past 33 years. All you have to do is bring yourself and a smile :-). Doors open at 7PM; Seats go fast so please show up on time to make sure you get a space– We cant wait to see you all there!
URL:https://crystalvisionltc.com/event/free-friday-night-reiki-circle-9/
LOCATION:Crystal Vision and Loving Touch Center\, 3160 Stirling Road\, Hollywood\, FL\, 33021\, United States
CATEGORIES:Free,Healing,Meditation,Reiki
ATTACH;FMTTYPE=image/jpeg:https://crystalvisionltc.com/wp-content/uploads/2024/10/free_friday_night_reiki.jpg
END:VEVENT
BEGIN:VEVENT
DTSTART;TZID=UTC:20241220T190000
DTEND;TZID=UTC:20241220T203000
DTSTAMP:20260421T092219
CREATED:20241204T191745Z
LAST-MODIFIED:20241204T191748Z
UID:1258-1734721200-1734726600@crystalvisionltc.com
SUMMARY:Free Friday Night Reiki Circle
DESCRIPTION:Join us every Friday night for our free Reiki Healing Circle.\nIt is our honor and pleasure to bring to you our Free Friday Night Reiki Circles! Join us as our week ends and refresh and recharge for the weekend. \nWe have been offering our FREE Friday Night reiki circles to our amazing community for the past 33 years. All you have to do is bring yourself and a smile :-). Doors open at 7PM; Seats go fast so please show up on time to make sure you get a space– We cant wait to see you all there!
URL:https://crystalvisionltc.com/event/free-friday-night-reiki-circle-8/
LOCATION:Crystal Vision and Loving Touch Center\, 3160 Stirling Road\, Hollywood\, FL\, 33021\, United States
CATEGORIES:Free,Healing,Meditation,Reiki
ATTACH;FMTTYPE=image/jpeg:https://crystalvisionltc.com/wp-content/uploads/2024/10/free_friday_night_reiki.jpg
END:VEVENT
BEGIN:VEVENT
DTSTART;TZID=UTC:20241213T190000
DTEND;TZID=UTC:20241213T203000
DTSTAMP:20260421T092219
CREATED:20241204T191607Z
LAST-MODIFIED:20241204T191610Z
UID:1256-1734116400-1734121800@crystalvisionltc.com
SUMMARY:Free Friday Night Reiki Circle
DESCRIPTION:Join us every Friday night for our free Reiki Healing Circle.\nIt is our honor and pleasure to bring to you our Free Friday Night Reiki Circles! Join us as our week ends and refresh and recharge for the weekend. \nWe have been offering our FREE Friday Night reiki circles to our amazing community for the past 33 years. All you have to do is bring yourself and a smile :-). Doors open at 7PM; Seats go fast so please show up on time to make sure you get a space– We cant wait to see you all there!
URL:https://crystalvisionltc.com/event/free-friday-night-reiki-circle-7/
LOCATION:Crystal Vision and Loving Touch Center\, 3160 Stirling Road\, Hollywood\, FL\, 33021\, United States
CATEGORIES:Free,Healing,Meditation,Reiki
ATTACH;FMTTYPE=image/jpeg:https://crystalvisionltc.com/wp-content/uploads/2024/10/free_friday_night_reiki.jpg
END:VEVENT
BEGIN:VEVENT
DTSTART;TZID=UTC:20241211T190000
DTEND;TZID=UTC:20241211T213000
DTSTAMP:20260421T092219
CREATED:20241102T162747Z
LAST-MODIFIED:20241204T192802Z
UID:972-1733943600-1733952600@crystalvisionltc.com
SUMMARY:Kwan Shin Yin Initiation
DESCRIPTION:The House of Kwan Shin Yin\nLoving Touch Center Presents: An Evening with Kwan Shin Yin\nWed December 11th @ 7pm \nThis intimate evening includes:\nCertification\nInitiation\nMeditation\nChanneling\nRelease of Karma \nCertification and Initiation by: Master Teacher Stephanie Guzman and Master Teacher Donna Varin\, under the divine guidance and divine intervention of Kwan Shin Yin. \n****Registration required: Contact us at the store for more information: 954-981-4992
URL:https://crystalvisionltc.com/event/kwan-shin-yin-initiation/
LOCATION:Crystal Vision and Loving Touch Center\, 3160 Stirling Road\, Hollywood\, FL\, 33021\, United States
CATEGORIES:Healing,Meditation
ATTACH;FMTTYPE=image/jpeg:https://crystalvisionltc.com/wp-content/uploads/2024/11/kwan.jpg
END:VEVENT
BEGIN:VEVENT
DTSTART;TZID=UTC:20241116T090000
DTEND;TZID=UTC:20241116T170000
DTSTAMP:20260421T092219
CREATED:20241102T163757Z
LAST-MODIFIED:20241102T163759Z
UID:976-1731747600-1731776400@crystalvisionltc.com
SUMMARY:Reiki I Class
DESCRIPTION:Reiki I – 2 Day Certification Course\nJoin us on Saturday November 16th and Sunday November 17th for this intensive 2-day Reiki I Certification Course.  \nExperience the transformative power of Reiki in an intimate and personalized setting. Each class is designed to ensure you receive individual attention and guidance\, making your journey truly unique and impactful. \nReiki is more than just a healing practice; it’s a pathway to self-discovery and inner peace. This life-changing experience can help you connect deeply with your energy\, enhance your well-being\, and bring a sense of balance to your life. \nDon’t miss this opportunity to start your Reiki journey with us. Spaces are limited to maintain the personalized nature of the class\, so secure your spot today! \n954-981-4992
URL:https://crystalvisionltc.com/event/reiki-i-class/
LOCATION:Crystal Vision and Loving Touch Center\, 3160 Stirling Road\, Hollywood\, FL\, 33021\, United States
CATEGORIES:Certified Course,Healing,Meditation,Reiki
ATTACH;FMTTYPE=image/jpeg:https://crystalvisionltc.com/wp-content/uploads/2024/11/reiki_I.jpg
END:VEVENT
END:VCALENDAR